{
 "currentVersion": 11.3,
 "cimVersion": "3.3.0",
 "serviceDescription": "The Virginia Geographic Information Network (VGIN) is coordinating the development and maintenance of a statewide Address Point data layer in conjunction with local governments across the Commonwealth in order to create a seamless feature class with address numbers and road names to complement the Virginia Base Mapping Program's (VBMP) Road Centerline (RCL) product by providing even more accurate geocoding results. Address Points can be used as a quality control resource for localities and VGIN for checking RCL address range and street name accuracy, which directly assists dispatch mapping systems. The Address Point data leverages the Commonwealth's investment in VBMP digital orthophotography as well as focusing its efforts to create a single statewide address point layer to be used in the VGIN Geocoding Web Service (GWS). Address Points are data developed and produced by Virginia's Local Governments and sent to VGIN along with Road centerline updates. A series of checks are run on the locality data and the schema is pared where necessary. An ETL process is run to match the VA Address Point model.",
 "mapName": "VA_Address_Points",
 "description": "The Virginia Geographic Information Network (VGIN) is coordinating the development and maintenance of a statewide Address Point data layer in conjunction with local governments across the Commonwealth in order to create a seamless feature class with address numbers and road names to complement the Virginia Base Mapping Program's (VBMP) Road Centerline (RCL) product by providing even more accurate geocoding results. Address Points can be used as a quality control resource for localities and VGIN for checking RCL address range and street name accuracy, which directly assists dispatch mapping systems. The Address Point data leverages the Commonwealth's investment in VBMP digital orthophotography as well as focusing its efforts to create a single statewide address point layer to be used in the VGIN Geocoding Web Service (GWS). Address Points are data developed and produced by Virginia's Local Governments and sent to VGIN along with Road centerline updates. A series of checks are run on the locality data and the schema is pared where necessary. An ETL process is run to match the VA Address Point model.",
 "copyrightText": "Virginia Geographic Information Network (VGIN)",
 "supportsDynamicLayers": false,
 "layers": [
  {
   "id": 0,
   "name": "Virginia Address Points",
   "parentLayerId": -1,
   "defaultVisibility": true,
   "subLayerIds": null,
   "minScale": 0,
   "maxScale": 0,
   "type": "Feature Layer",
   "geometryType": "esriGeometryPoint",
   "supportsDynamicLegends": true
  }
 ],
 "tables": [],
 "spatialReference": {
  "wkid": 102100,
  "latestWkid": 3857,
  "xyTolerance": 0.001,
  "zTolerance": 0.001,
  "mTolerance": 0.001,
  "falseX": -20037700,
  "falseY": -30241100,
  "xyUnits": 10000,
  "falseZ": -100000,
  "zUnits": 10000,
  "falseM": -100000,
  "mUnits": 10000
 },
 "singleFusedMapCache": true,
 "tileInfo": {
  "rows": 256,
  "cols": 256,
  "dpi": 96,
  "format": "PNG",
  "compressionQuality": 0,
  "origin": {
   "x": -2.0037508342787E7,
   "y": 2.0037508342787E7
  },
  "spatialReference": {
   "wkid": 102100,
   "latestWkid": 3857,
   "xyTolerance": 0.001,
   "zTolerance": 0.001,
   "mTolerance": 0.001,
   "falseX": -20037700,
   "falseY": -30241100,
   "xyUnits": 1.4892314192838538E8,
   "falseZ": -100000,
   "zUnits": 10000,
   "falseM": -100000,
   "mUnits": 10000
  },
  "lods": [
   {
    "level": 0,
    "resolution": 156543.033928,
    "scale": 5.91657527591555E8
   },
   {
    "level": 1,
    "resolution": 78271.5169639999,
    "scale": 2.95828763795777E8
   },
   {
    "level": 2,
    "resolution": 39135.7584820001,
    "scale": 1.47914381897889E8
   },
   {
    "level": 3,
    "resolution": 19567.8792409999,
    "scale": 7.3957190948944E7
   },
   {
    "level": 4,
    "resolution": 9783.93962049996,
    "scale": 3.6978595474472E7
   },
   {
    "level": 5,
    "resolution": 4891.96981024998,
    "scale": 1.8489297737236E7
   },
   {
    "level": 6,
    "resolution": 2445.98490512499,
    "scale": 9244648.868618
   },
   {
    "level": 7,
    "resolution": 1222.99245256249,
    "scale": 4622324.434309
   },
   {
    "level": 8,
    "resolution": 611.49622628138,
    "scale": 2311162.217155
   },
   {
    "level": 9,
    "resolution": 305.748113140558,
    "scale": 1155581.108577
   },
   {
    "level": 10,
    "resolution": 152.874056570411,
    "scale": 577790.554289
   },
   {
    "level": 11,
    "resolution": 76.4370282850732,
    "scale": 288895.277144
   },
   {
    "level": 12,
    "resolution": 38.2185141425366,
    "scale": 144447.638572
   },
   {
    "level": 13,
    "resolution": 19.1092570712683,
    "scale": 72223.819286
   },
   {
    "level": 14,
    "resolution": 9.55462853563415,
    "scale": 36111.909643
   },
   {
    "level": 15,
    "resolution": 4.77731426794937,
    "scale": 18055.954822
   },
   {
    "level": 16,
    "resolution": 2.38865713397468,
    "scale": 9027.977411
   },
   {
    "level": 17,
    "resolution": 1.19432856685505,
    "scale": 4513.988705
   },
   {
    "level": 18,
    "resolution": 0.597164283559817,
    "scale": 2256.994353
   },
   {
    "level": 19,
    "resolution": 0.298582141647617,
    "scale": 1128.497176
   }
  ]
 },
 "storageInfo": {
  "storageFormat": "esriMapCacheStorageModeCompactV2",
  "packetSize": 128
 },
 "initialExtent": {
  "xmin": -9339467.028291179,
  "ymin": 4226306.023504447,
  "xmax": -8470076.015409457,
  "ymax": 4927427.808086483,
  "spatialReference": {
   "wkid": 102100,
   "latestWkid": 3857,
   "xyTolerance": 0.001,
   "zTolerance": 0.001,
   "mTolerance": 0.001,
   "falseX": -20037700,
   "falseY": -30241100,
   "xyUnits": 10000,
   "falseZ": -100000,
   "zUnits": 10000,
   "falseM": -100000,
   "mUnits": 10000
  }
 },
 "fullExtent": {
  "xmin": -9327816.173285577,
  "ymin": 4364999.960299969,
  "xmax": -8376151.097745763,
  "ymax": 4788863.269412347,
  "spatialReference": {
   "wkid": 102100,
   "latestWkid": 3857,
   "xyTolerance": 0.001,
   "zTolerance": 0.001,
   "mTolerance": 0.001,
   "falseX": -20037700,
   "falseY": -30241100,
   "xyUnits": 10000,
   "falseZ": -100000,
   "zUnits": 10000,
   "falseM": -100000,
   "mUnits": 10000
  }
 },
 "datesInUnknownTimezone": false,
 "minScale": 5.91657527591555E8,
 "maxScale": 70,
 "units": "esriMeters",
 "supportedImageFormatTypes": "PNG32,PNG24,PNG,JPG,DIB,TIFF,EMF,PS,PDF,GIF,SVG,SVGZ,BMP",
 "documentInfo": {
  "Title": "Virginia Address Points",
  "Author": "",
  "Comments": "The Virginia Geographic Information Network (VGIN) is coordinating the development and maintenance of a statewide Address Point data layer in conjunction with local governments across the Commonwealth in order to create a seamless feature class with address numbers and road names to complement the Virginia Base Mapping Program's (VBMP) Road Centerline (RCL) product by providing even more accurate geocoding results. Address Points can be used as a quality control resource for localities and VGIN for checking RCL address range and street name accuracy, which directly assists dispatch mapping systems. The Address Point data leverages the Commonwealth's investment in VBMP digital orthophotography as well as focusing its efforts to create a single statewide address point layer to be used in the VGIN Geocoding Web Service (GWS). Address Points are data developed and produced by Virginia's Local Governments and sent to VGIN along with Road centerline updates. A series of checks are run on the locality data and the schema is pared where necessary. An ETL process is run to match the VA Address Point model.",
  "Subject": "A statewide Address Point data layer in conjunction with local governments across the Commonwealth.",
  "Category": "",
  "Version": "3.3.0",
  "AntialiasingMode": "Fast",
  "TextAntialiasingMode": "Force",
  "Keywords": "Virginia,VBMP,Address Points,Address,VGIN,RCL"
 },
 "supportsQueryDomains": true,
 "capabilities": "Map,Query,Data",
 "supportedQueryFormats": "JSON, geoJSON, PBF",
 "exportTilesAllowed": false,
 "referenceScale": 2256.994353,
 "datumTransformations": [
  {
   "geoTransforms": [
    {
     "wkid": 108190,
     "latestWkid": 108190,
     "transformForward": false,
     "name": "WGS_1984_(ITRF00)_To_NAD_1983"
    }
   ]
  }
 ],
 "supportsDatumTransformation": true,
 "archivingInfo": {
  "supportsHistoricMoment": false
 },
 "supportsClipping": true,
 "supportsSpatialFilter": true,
 "supportsTimeRelation": true,
 "supportsQueryDataElements": true,
 "mapUnits": {
  "uwkid": 9001
 },
 "maxRecordCount": 2000,
 "maxImageHeight": 4096,
 "maxImageWidth": 4096,
 "supportedExtensions": "FeatureServer, WMSServer",
 "resampling": true
}
