View In:
ArcGIS JavaScript
ArcGIS Online Map Viewer
ArcGIS Earth
ArcGIS Pro
Service Description: The Virginia Geographic Information Network (VGIN) is coordinating the development and maintenance of a statewide Building Footprint data layer in conjunction with local governments across the Commonwealth in order to create a seamless feature class with building footprints to complement the Virginia Base Mapping Program (VBMP). The Building Footprints data leverages the Commonwealth's investment in VBMP digital orthophotography. Building Footprints are data developed and produced by Virginia's Local Governments and sent to VGIN. A series of checks are run on the locality data and the schema is pared where necessary.
Map Name: VA_Building_Footprints
Legend
All Layers and Tables
Layers:
Description: The Virginia Geographic Information Network (VGIN) is coordinating the development and maintenance of a statewide Building Footprint data layer in conjunction with local governments across the Commonwealth in order to create a seamless feature class with building footprints to complement the Virginia Base Mapping Program (VBMP). The Building Footprints data leverages the Commonwealth's investment in VBMP digital orthophotography. Building Footprints are data developed and produced by Virginia's Local Governments and sent to VGIN. A series of checks are run on the locality data and the schema is pared where necessary.
Copyright Text: Virginia Geographic Information Network (VGIN)
Spatial Reference:
102100
(3857)
Single Fused Map Cache: true
Tile Info:
- Height: 256
- Width: 256
- DPI: 96
-
Levels of Detail: 20
-
Level ID: 1
[ Start Tile, End Tile ]
- Resolution: 78271.5169639999
- Scale: 2.95828763795777E8
-
Level ID: 2
[ Start Tile, End Tile ]
- Resolution: 39135.7584820001
- Scale: 1.47914381897889E8
-
Level ID: 3
[ Start Tile, End Tile ]
- Resolution: 19567.8792409999
- Scale: 7.3957190948944E7
-
Level ID: 4
[ Start Tile, End Tile ]
- Resolution: 9783.93962049996
- Scale: 3.6978595474472E7
-
Level ID: 5
[ Start Tile, End Tile ]
- Resolution: 4891.96981024998
- Scale: 1.8489297737236E7
- Format: PNG
- Compression Quality: 0.0
- Origin: X: -2.0037508342787E7
Y: 2.0037508342787E7
- Spatial Reference: 102100
(3857)
Storage Info:
- Storage Format: esriMapCacheStorageModeCompactV2
- Packet Size: 128
Initial Extent:
XMin: -9281363.75372324
YMin: 4228870.856952841
XMax: -8418417.174592586
YMax: 4924795.517542078
Spatial Reference: 102100
(3857)
Full Extent:
XMin: -9327816.693841426
YMin: 4364869.816314646
XMax: -8368686.625938375
YMax: 4788806.325104042
Spatial Reference: 102100
(3857)
Units: esriMeters
Supported Image Format Types: PNG32,PNG24,PNG,JPG,DIB,TIFF,EMF,PS,PDF,GIF,SVG,SVGZ,BMP
Document Info:
Title: Virginia's Building Footprints
Author:
Comments: The Virginia Geographic Information Network (VGIN) is coordinating the development and maintenance of a statewide Building Footprint data layer in conjunction with local governments across the Commonwealth in order to create a seamless feature class with building footprints to complement the Virginia Base Mapping Program (VBMP). The Building Footprints data leverages the Commonwealth's investment in VBMP digital orthophotography. Building Footprints are data developed and produced by Virginia's Local Governments and sent to VGIN. A series of checks are run on the locality data and the schema is pared where necessary.
Subject: A statewide building footprint data layer in conjunction with local governments across the Commonwealth.
Category:
Keywords: Virginia,VBMP,Building Footprints,VGIN
AntialiasingMode: Fast
TextAntialiasingMode: Force
Supports Dynamic Layers: false
Resampling: true
MaxRecordCount: 2000
MaxImageHeight: 4096
MaxImageWidth: 4096
Supported Query Formats: JSON, geoJSON, PBF
Supports Query Data Elements: true
Min Scale: 5.91657527591555E8
Max Scale: 70
Supports Datum Transformation: true
Child Resources:
Info
Supported Operations:
Export Map
Identify
QueryLegends
QueryDomains
Find
Return Updates