View In:
ArcGIS JavaScript
ArcGIS Online Map Viewer
ArcGIS Earth
ArcGIS Pro
Service Description: Any determination of topography or contours, or any depiction of physical improvements, property lines or boundaries is for general information only and shall not be used for the design, modification, or construction of improvements to real property or for flood plain determination. The Virginia Geographic Information Network (VGIN) and its partners have coordinated the development of a statewide Land Cover Dataset, improving land coverage data to assist localities in planning and implementing stormwater management programs. The Land Cover product leverages the Commonwealth's investment in the VBMP digital orthophotography and is focused on creating a consistent, statewide 1 meter digital land classification. Land Cover data extraction is being publicly provided back to local governments and state agencies in both raster and vector data formats.
Map Name: VA_Land_Cover
Legend
All Layers and Tables
Layers:
Description: Any determination of topography or contours, or any depiction of physical improvements, property lines or boundaries is for general information only and shall not be used for the design, modification, or construction of improvements to real property or for flood plain determination. The Virginia Geographic Information Network (VGIN) and its partners have coordinated the development of a statewide Land Cover Dataset, improving land coverage data to assist localities in planning and implementing stormwater management programs. The Land Cover product leverages the Commonwealth's investment in the VBMP digital orthophotography and is focused on creating a consistent, statewide 1 meter digital land classification. Land Cover data extraction is being publicly provided back to local governments and state agencies in both raster and vector data formats.
Copyright Text: Virginia Geographic Information Network (VGIN)
Spatial Reference:
102100
(3857)
Single Fused Map Cache: true
Tile Info:
- Height: 256
- Width: 256
- DPI: 96
-
Levels of Detail: 24
-
Level ID: 1
[ Start Tile, End Tile ]
- Resolution: 78271.5169639999
- Scale: 2.95828763795777E8
-
Level ID: 2
[ Start Tile, End Tile ]
- Resolution: 39135.7584820001
- Scale: 1.47914381897889E8
-
Level ID: 3
[ Start Tile, End Tile ]
- Resolution: 19567.8792409999
- Scale: 7.3957190948944E7
-
Level ID: 4
[ Start Tile, End Tile ]
- Resolution: 9783.93962049996
- Scale: 3.6978595474472E7
-
Level ID: 5
[ Start Tile, End Tile ]
- Resolution: 4891.96981024998
- Scale: 1.8489297737236E7
- Format: MIXED
- Compression Quality: 75.0
- Origin: X: -2.0037508342787E7
Y: 2.0037508342787E7
- Spatial Reference: 102100
(3857)
Storage Info:
- Storage Format: esriMapCacheStorageModeCompactV2
- Packet Size: 128
Initial Extent:
XMin: -9312338.757134333
YMin: 4205334.393913608
XMax: -8378296.347194571
YMax: 4958594.401929546
Spatial Reference: 102100
(3857)
Full Extent:
XMin: -9361643.048568103
YMin: 4309484.932053361
XMax: -8328992.0557608
YMax: 4854443.863789792
Spatial Reference: 102100
(3857)
Units: esriMeters
Supported Image Format Types: PNG32,PNG24,PNG,JPG,DIB,TIFF,EMF,PS,PDF,GIF,SVG,SVGZ,BMP
Document Info:
Title: Virginia Land Cover
Author:
Comments: Any determination of topography or contours, or any depiction of physical improvements, property lines or boundaries is for general information only and shall not be used for the design, modification, or construction of improvements to real property or for flood plain determination. The Virginia Geographic Information Network (VGIN) and its partners have coordinated the development of a statewide Land Cover Dataset, improving land coverage data to assist localities in planning and implementing stormwater management programs. The Land Cover product leverages the Commonwealth's investment in the VBMP digital orthophotography and is focused on creating a consistent, statewide 1 meter digital land classification. Land Cover data extraction is being publicly provided back to local governments and state agencies in both raster and vector data formats.
Subject: 1 m Land Cover Dataset based on a 12 classification scheme. This statewide dataset is divided into tiled imagery from the VBMP orthophotography 2011-2015
Category:
Keywords: Virginia,Land Cover
AntialiasingMode: Fast
TextAntialiasingMode: Force
Supports Dynamic Layers: false
Resampling: false
MaxRecordCount: 2000
MaxImageHeight: 4096
MaxImageWidth: 4096
Supported Query Formats: JSON, geoJSON, PBF
Supports Query Data Elements: true
Min Scale: 5.91657527591555E8
Max Scale: 70.5310735
Supports Datum Transformation: true
Child Resources:
Info
Supported Operations:
Export Map
Identify
QueryLegends
QueryDomains
Find
Return Updates