View In:
ArcGIS JavaScript
ArcGIS Online Map Viewer
ArcGIS Earth
ArcGIS Pro
Service Description: Orthoimagery collected in Spring 2006 by the VBMP program for the eastern half of Virginia. The imagery is displayed in true color (RED, GREEN, BLUE). The spatial reference is WGS 1984 Web Mercator (Auxiliary Sphere). The imagery is tiled at 12 levels from 1:4,622,324 to 1:2,257. The imagery was collected to meet ASPRS Class 1 orthoimagery standards. Most areas were collected at a 1-ft ground sample distance (GSD), with some urban areas upgraded to 6-inch and 3-inch GSD. - "Any determination of topography or contours, or any depiction of physical improvements, property lines or boundaries is for general information only and shall not be used for the design, modification, or construction of improvements to real property or for flood plain determination." Subsection C of § 54.1-402
Map Name: VBMP2006_WGS
Legend
All Layers and Tables
Layers:
Description: Orthoimagery collected in Spring 2006 by the VBMP program for the eastern half of Virginia. The imagery is displayed in true color (RED, GREEN, BLUE). The spatial reference is WGS 1984 Web Mercator (Auxiliary Sphere). The imagery is tiled at 12 levels from 1:4,622,324 to 1:2,257. The imagery was collected to meet ASPRS Class 1 orthoimagery standards. Most areas were collected at a 1-ft ground sample distance (GSD), with some urban areas upgraded to 6-inch and 3-inch GSD. - "Any determination of topography or contours, or any depiction of physical improvements, property lines or boundaries is for general information only and shall not be used for the design, modification, or construction of improvements to real property or for flood plain determination." Subsection C of § 54.1-402
Copyright Text: VGIN
Spatial Reference:
102100
(3857)
Single Fused Map Cache: true
Tile Info:
- Height: 256
- Width: 256
- DPI: 96
-
Levels of Detail: 24
-
Level ID: 0
[ Start Tile, End Tile ]
- Resolution: 156543.03392800014
- Scale: 5.91657527591555E8
-
Level ID: 1
[ Start Tile, End Tile ]
- Resolution: 78271.51696399994
- Scale: 2.95828763795777E8
-
Level ID: 2
[ Start Tile, End Tile ]
- Resolution: 39135.75848200009
- Scale: 1.47914381897889E8
-
Level ID: 3
[ Start Tile, End Tile ]
- Resolution: 19567.87924099992
- Scale: 7.3957190948944E7
-
Level ID: 4
[ Start Tile, End Tile ]
- Resolution: 9783.93962049996
- Scale: 3.6978595474472E7
-
Level ID: 5
[ Start Tile, End Tile ]
- Resolution: 4891.96981024998
- Scale: 1.8489297737236E7
- Format: MIXED
- Compression Quality: 75.0
- Origin: X: -2.0037508342787E7
Y: 2.0037508342787E7
- Spatial Reference: 102100
(3857)
Storage Info:
- Storage Format: esriMapCacheStorageModeCompact
- Packet Size: 128
Initial Extent:
XMin: -9126015.832973896
YMin: 4364573.768448652
XMax: -8560881.921541872
YMax: 4715207.964163809
Spatial Reference: 102100
(3857)
Full Extent:
XMin: -9602077.33792619
YMin: 4122762.4796835165
XMax: -8123479.462778133
YMax: 5005763.030433638
Spatial Reference: 102100
(3857)
Units: esriMeters
Supported Image Format Types: PNG32,PNG24,PNG,JPG,DIB,TIFF,EMF,PS,PDF,GIF,SVG,SVGZ,BMP
Document Info:
Title: VBMP 2006 Web Mercator
Author:
Comments: Orthoimagery collected in Spring 2006 by the VBMP program for the eastern half of Virginia. The imagery is displayed in true color (RED, GREEN, BLUE). The spatial reference is WGS 1984 Web Mercator (Auxiliary Sphere). The imagery is tiled at 12 levels from 1:4,622,324 to 1:2,257. The imagery was collected to meet ASPRS Class 1 orthoimagery standards. Most areas were collected at a 1-ft ground sample distance (GSD), with some urban areas upgraded to 6-inch and 3-inch GSD. - "Any determination of topography or contours, or any depiction of physical improvements, property lines or boundaries is for general information only and shall not be used for the design, modification, or construction of improvements to real property or for flood plain determination." Subsection C of § 54.1-402
Subject: Orthoimagery collected in the Spring of 2006
Category:
Keywords: VBMP,2006,Web Mercator,VGIN
AntialiasingMode: Fast
TextAntialiasingMode: Force
Supports Dynamic Layers: false
Resampling: true
MaxRecordCount: 2000
MaxImageHeight: 4096
MaxImageWidth: 4096
Supported Query Formats: JSON, geoJSON, PBF
Supports Query Data Elements: true
Min Scale: 5.91657527591555E8
Max Scale: 70
Supports Datum Transformation: true
Child Resources:
Info
Supported Operations:
Export Map
Identify
QueryLegends
QueryDomains
Find
Return Updates