View In:
ArcGIS JavaScript
ArcGIS Online Map Viewer
ArcGIS Earth
ArcGIS Pro
Service Description: Orthoimagery collected in Spring 2024 by the VBMP program for the eastern half of Virginia. The imagery is displayed in false-color infrared (NIR, RED, GREEN). The spatial reference is WGS 1984 Web Mercator(Auxiliary Sphere). The imagery is tiled at 12 levels from 1:4,622,324 to 1:2,257. The imagery was collected to meet ASPRS Class 1 orthoimagery standards. Most areas were collected at a 1-ft ground sample distance (GSD), with some urban areas upgraded to 6-inch and 3-inch GSD. - "Any determination of topography or contours, or any depiction of physical improvements, property lines or boundaries is for general information only and shall not be used for the design, modification, or construction of improvements to real property or for flood plain determination." Subsection C of § 54.1-402
Map Name: VBMP2024_Infrared_WGS
Legend
All Layers and Tables
Layers:
Description: Orthoimagery collected in Spring 2024 by the VBMP program for the eastern half of Virginia. The imagery is displayed in false-color infrared (NIR, RED, GREEN). The spatial reference is WGS 1984 Web Mercator(Auxiliary Sphere). The imagery is tiled at 12 levels from 1:4,622,324 to 1:2,257. The imagery was collected to meet ASPRS Class 1 orthoimagery standards. Most areas were collected at a 1-ft ground sample distance (GSD), with some urban areas upgraded to 6-inch and 3-inch GSD. - "Any determination of topography or contours, or any depiction of physical improvements, property lines or boundaries is for general information only and shall not be used for the design, modification, or construction of improvements to real property or for flood plain determination." Subsection C of § 54.1-402
Copyright Text: Virginia Geographic Information Network (VGIN)
Spatial Reference:
102100
(3857)
Single Fused Map Cache: true
Tile Info:
- Height: 256
- Width: 256
- DPI: 96
-
Levels of Detail: 24
-
Level ID: 0
[ Start Tile, End Tile ]
- Resolution: 156543.03392800014
- Scale: 5.91657527591555E8
-
Level ID: 1
[ Start Tile, End Tile ]
- Resolution: 78271.51696399994
- Scale: 2.95828763795777E8
-
Level ID: 2
[ Start Tile, End Tile ]
- Resolution: 39135.75848200009
- Scale: 1.47914381897889E8
-
Level ID: 3
[ Start Tile, End Tile ]
- Resolution: 19567.87924099992
- Scale: 7.3957190948944E7
-
Level ID: 4
[ Start Tile, End Tile ]
- Resolution: 9783.93962049996
- Scale: 3.6978595474472E7
-
Level ID: 5
[ Start Tile, End Tile ]
- Resolution: 4891.96981024998
- Scale: 1.8489297737236E7
- Format: MIXED
- Compression Quality: 75.0
- Origin: X: -2.0037508342787E7
Y: 2.0037508342787E7
- Spatial Reference: 102100
(3857)
Storage Info:
- Storage Format: esriMapCacheStorageModeCompact
- Packet Size: 128
Initial Extent:
XMin: -9417960.89038238
YMin: 4136216.2941055843
XMax: -8287497.176424012
YMax: 5026524.080313945
Spatial Reference: 102100
(3857)
Full Extent:
XMin: -9361643.04300213
YMin: 4309484.930125408
XMax: -8328992.050194825
YMax: 4854443.866837925
Spatial Reference: 102100
(3857)
Units: esriMeters
Supported Image Format Types: PNG32,PNG24,PNG,JPG,DIB,TIFF,EMF,PS,PDF,GIF,SVG,SVGZ,BMP
Document Info:
Title: VBMP 2024 infrared imagery Web Mercator
Author:
Comments: Orthoimagery collected in Spring 2024 by the VBMP program for the eastern half of Virginia. The imagery is displayed in false-color infrared (NIR, RED, GREEN). The spatial reference is WGS 1984 Web Mercator(Auxiliary Sphere). The imagery is tiled at 12 levels from 1:4,622,324 to 1:2,257. The imagery was collected to meet ASPRS Class 1 orthoimagery standards. Most areas were collected at a 1-ft ground sample distance (GSD), with some urban areas upgraded to 6-inch and 3-inch GSD. - "Any determination of topography or contours, or any depiction of physical improvements, property lines or boundaries is for general information only and shall not be used for the design, modification, or construction of improvements to real property or for flood plain determination." Subsection C of § 54.1-402
Subject: VBMP 2024 infrared imagery Web Mercator.
Category:
Keywords: VBMP,2024,infrared,VGIN,Web Mercator
AntialiasingMode: Fast
TextAntialiasingMode: Force
Supports Dynamic Layers: false
Resampling: true
MaxRecordCount: 2000
MaxImageHeight: 4096
MaxImageWidth: 4096
Supported Query Formats: JSON, geoJSON, PBF
Supports Query Data Elements: true
Min Scale: 5.91657527591555E8
Max Scale: 70
Supports Datum Transformation: true
Child Resources:
Info
Supported Operations:
Export Map
Identify
QueryLegends
QueryDomains
Find
Return Updates