View In:
ArcGIS JavaScript
ArcGIS Online Map Viewer
ArcGIS Earth
ArcGIS Pro
Service Description: The Virginia Geographic Information Network (VGIN) is coordinating the development and maintenance of a statewide Address Point data layer in conjunction with local governments across the Commonwealth in order to create a seamless feature class with address numbers and road names to complement the Virginia Base Mapping Program's (VBMP) Road Centerline (RCL) product by providing even more accurate geocoding results. Address Points can be used as a quality control resource for localities and VGIN for checking RCL address range and street name accuracy, which directly assists dispatch mapping systems. The Address Point data leverages the Commonwealth's investment in VBMP digital orthophotography as well as focusing its efforts to create a single statewide address point layer to be used in the VGIN Geocoding Web Service (GWS). Address Points are data developed and produced by Virginia's Local Governments and sent to VGIN along with Road centerline updates. A series of checks are run on the locality data and the schema is pared where necessary. An ETL process is run to match the VA Address Point model.
Map Name: VA_Address_Points
Legend
All Layers and Tables
Layers:
Description: The Virginia Geographic Information Network (VGIN) is coordinating the development and maintenance of a statewide Address Point data layer in conjunction with local governments across the Commonwealth in order to create a seamless feature class with address numbers and road names to complement the Virginia Base Mapping Program's (VBMP) Road Centerline (RCL) product by providing even more accurate geocoding results. Address Points can be used as a quality control resource for localities and VGIN for checking RCL address range and street name accuracy, which directly assists dispatch mapping systems. The Address Point data leverages the Commonwealth's investment in VBMP digital orthophotography as well as focusing its efforts to create a single statewide address point layer to be used in the VGIN Geocoding Web Service (GWS). Address Points are data developed and produced by Virginia's Local Governments and sent to VGIN along with Road centerline updates. A series of checks are run on the locality data and the schema is pared where necessary. An ETL process is run to match the VA Address Point model.
Copyright Text: Virginia Geographic Information Network (VGIN)
Spatial Reference:
102100
(3857)
Single Fused Map Cache: true
Tile Info:
- Height: 256
- Width: 256
- DPI: 96
-
Levels of Detail: 20
-
Level ID: 1
[ Start Tile, End Tile ]
- Resolution: 78271.5169639999
- Scale: 2.95828763795777E8
-
Level ID: 2
[ Start Tile, End Tile ]
- Resolution: 39135.7584820001
- Scale: 1.47914381897889E8
-
Level ID: 3
[ Start Tile, End Tile ]
- Resolution: 19567.8792409999
- Scale: 7.3957190948944E7
-
Level ID: 4
[ Start Tile, End Tile ]
- Resolution: 9783.93962049996
- Scale: 3.6978595474472E7
-
Level ID: 5
[ Start Tile, End Tile ]
- Resolution: 4891.96981024998
- Scale: 1.8489297737236E7
- Format: PNG
- Compression Quality: 0.0
- Origin: X: -2.0037508342787E7
Y: 2.0037508342787E7
- Spatial Reference: 102100
(3857)
Storage Info:
- Storage Format: esriMapCacheStorageModeCompactV2
- Packet Size: 128
Initial Extent:
XMin: -9339467.028291179
YMin: 4226306.023504447
XMax: -8470076.015409457
YMax: 4927427.808086483
Spatial Reference: 102100
(3857)
Full Extent:
XMin: -9327816.173285577
YMin: 4364999.960299969
XMax: -8376151.097745763
YMax: 4788863.269412347
Spatial Reference: 102100
(3857)
Units: esriMeters
Supported Image Format Types: PNG32,PNG24,PNG,JPG,DIB,TIFF,EMF,PS,PDF,GIF,SVG,SVGZ,BMP
Document Info:
Title: Virginia Address Points
Author:
Comments: The Virginia Geographic Information Network (VGIN) is coordinating the development and maintenance of a statewide Address Point data layer in conjunction with local governments across the Commonwealth in order to create a seamless feature class with address numbers and road names to complement the Virginia Base Mapping Program's (VBMP) Road Centerline (RCL) product by providing even more accurate geocoding results. Address Points can be used as a quality control resource for localities and VGIN for checking RCL address range and street name accuracy, which directly assists dispatch mapping systems. The Address Point data leverages the Commonwealth's investment in VBMP digital orthophotography as well as focusing its efforts to create a single statewide address point layer to be used in the VGIN Geocoding Web Service (GWS). Address Points are data developed and produced by Virginia's Local Governments and sent to VGIN along with Road centerline updates. A series of checks are run on the locality data and the schema is pared where necessary. An ETL process is run to match the VA Address Point model.
Subject: A statewide Address Point data layer in conjunction with local governments across the Commonwealth.
Category:
Keywords: Virginia,VBMP,Address Points,Address,VGIN,RCL
AntialiasingMode: Fast
TextAntialiasingMode: Force
Supports Dynamic Layers: false
Resampling: true
MaxRecordCount: 2000
MaxImageHeight: 4096
MaxImageWidth: 4096
Supported Query Formats: JSON, geoJSON, PBF
Supports Query Data Elements: true
Min Scale: 5.91657527591555E8
Max Scale: 70
Supports Datum Transformation: true
Child Resources:
Info
Supported Operations:
Export Map
Identify
QueryLegends
QueryDomains
Find
Return Updates